BEGIN:VCALENDAR
VERSION:2.0
PRODID:-//College Access Plan - ECPv6.15.20//NONSGML v1.0//EN
CALSCALE:GREGORIAN
METHOD:PUBLISH
X-WR-CALNAME:College Access Plan
X-ORIGINAL-URL:https://collegeaccessplan.org
X-WR-CALDESC:Events for College Access Plan
REFRESH-INTERVAL;VALUE=DURATION:PT1H
X-Robots-Tag:noindex
X-PUBLISHED-TTL:PT1H
BEGIN:VTIMEZONE
TZID:America/Los_Angeles
BEGIN:DAYLIGHT
TZOFFSETFROM:-0800
TZOFFSETTO:-0700
TZNAME:PDT
DTSTART:20250309T100000
END:DAYLIGHT
BEGIN:STANDARD
TZOFFSETFROM:-0700
TZOFFSETTO:-0800
TZNAME:PST
DTSTART:20251102T090000
END:STANDARD
BEGIN:DAYLIGHT
TZOFFSETFROM:-0800
TZOFFSETTO:-0700
TZNAME:PDT
DTSTART:20260308T100000
END:DAYLIGHT
BEGIN:STANDARD
TZOFFSETFROM:-0700
TZOFFSETTO:-0800
TZNAME:PST
DTSTART:20261101T090000
END:STANDARD
BEGIN:DAYLIGHT
TZOFFSETFROM:-0800
TZOFFSETTO:-0700
TZNAME:PDT
DTSTART:20270314T100000
END:DAYLIGHT
BEGIN:STANDARD
TZOFFSETFROM:-0700
TZOFFSETTO:-0800
TZNAME:PST
DTSTART:20271107T090000
END:STANDARD
END:VTIMEZONE
BEGIN:VEVENT
DTSTART;TZID=America/Los_Angeles:20260423T160000
DTEND;TZID=America/Los_Angeles:20260423T180000
DTSTAMP:20260423T171734
CREATED:20260413T211204Z
LAST-MODIFIED:20260413T222718Z
UID:320952-1776960000-1776967200@collegeaccessplan.org
SUMMARY:Transcript Review Workshop at the Dena Teen Center
DESCRIPTION:This is a test event created to demonstrate how events will appear on the College Access Plan website. The information below is sample content and does not represent an actual event. \nCollege Access Plan is dedicated to helping students and families navigate the path to higher education. Through workshops\, mentoring\, and personalized guidance\, CAP supports students from middle school through college completion. \nIn a typical College Access Plan event\, students and families might learn about: \n\nPreparing for college starting in middle and high school\nUnderstanding financial aid and scholarships\nNavigating the college application process\nBuilding strong academic and extracurricular profiles\nAccessing mentoring and support resources\n\nPlease note: This is a demonstration event for website testing purposes only.
URL:https://collegeaccessplan.org/event/transcript-review-workshop-at-the-dena-teen-center/
LOCATION:Dena Teen Center\, 2020 Fair Oaks Avenue\, Pasadena\, CA\, 91103
ATTACH;FMTTYPE=image/webp:https://collegeaccessplan.org/wp-content/uploads/c7807d86-b1a4-46e8-ac7a-862ddc2f877f.webp
ORGANIZER;CN="Dena Teen Center":MAILTO:lizeth@collegeaccessplan.org
END:VEVENT
END:VCALENDAR