BEGIN:VCALENDAR
VERSION:2.0
PRODID:-//College Access Plan - ECPv6.15.20//NONSGML v1.0//EN
CALSCALE:GREGORIAN
METHOD:PUBLISH
X-WR-CALNAME:College Access Plan
X-ORIGINAL-URL:https://collegeaccessplan.org
X-WR-CALDESC:Events for College Access Plan
REFRESH-INTERVAL;VALUE=DURATION:PT1H
X-Robots-Tag:noindex
X-PUBLISHED-TTL:PT1H
BEGIN:VTIMEZONE
TZID:America/Los_Angeles
BEGIN:DAYLIGHT
TZOFFSETFROM:-0800
TZOFFSETTO:-0700
TZNAME:PDT
DTSTART:20250309T100000
END:DAYLIGHT
BEGIN:STANDARD
TZOFFSETFROM:-0700
TZOFFSETTO:-0800
TZNAME:PST
DTSTART:20251102T090000
END:STANDARD
BEGIN:DAYLIGHT
TZOFFSETFROM:-0800
TZOFFSETTO:-0700
TZNAME:PDT
DTSTART:20260308T100000
END:DAYLIGHT
BEGIN:STANDARD
TZOFFSETFROM:-0700
TZOFFSETTO:-0800
TZNAME:PST
DTSTART:20261101T090000
END:STANDARD
BEGIN:DAYLIGHT
TZOFFSETFROM:-0800
TZOFFSETTO:-0700
TZNAME:PDT
DTSTART:20270314T100000
END:DAYLIGHT
BEGIN:STANDARD
TZOFFSETFROM:-0700
TZOFFSETTO:-0800
TZNAME:PST
DTSTART:20271107T090000
END:STANDARD
END:VTIMEZONE
BEGIN:VEVENT
DTSTART;TZID=America/Los_Angeles:20260506T180000
DTEND;TZID=America/Los_Angeles:20260506T193000
DTSTAMP:20260423T184004
CREATED:20260414T185642Z
LAST-MODIFIED:20260414T185642Z
UID:320995-1778090400-1778095800@collegeaccessplan.org
SUMMARY:Middle School Family Social
DESCRIPTION:This is a test event created to demonstrate how events will appear on the College Access Plan website. The information below is sample content and does not represent an actual event. \nCollege Access Plan is dedicated to helping students and families navigate the path to higher education. Through workshops\, mentoring\, and personalized guidance\, CAP supports students from middle school through college completion. \nIn a typical College Access Plan event\, students and families might learn about: \n\nPreparing for college starting in middle and high school\nUnderstanding financial aid and scholarships\nNavigating the college application process\nBuilding strong academic and extracurricular profiles\nAccessing mentoring and support resources\n\nPlease note: This is a demonstration event for website testing purposes only.
URL:https://collegeaccessplan.org/event/middle-school-family-social/
LOCATION:Pasadena Unified School District\, 351 S. Hudson Ave.\, Pasadena\, CA\, 91109
ATTACH;FMTTYPE=image/webp:https://collegeaccessplan.org/wp-content/uploads/c7807d86-b1a4-46e8-ac7a-862ddc2f877f.webp
ORGANIZER;CN="Middle School":MAILTO:innesa@collegeaccessplan.org
END:VEVENT
BEGIN:VEVENT
DTSTART;TZID=America/Los_Angeles:20260513T183000
DTEND;TZID=America/Los_Angeles:20260513T193000
DTSTAMP:20260423T184004
CREATED:20260409T160717Z
LAST-MODIFIED:20260414T162829Z
UID:320920-1778697000-1778700600@collegeaccessplan.org
SUMMARY:The Inside Scoop on College - A Virtual Student Panel
DESCRIPTION:This is a test event created to demonstrate how events will appear on the College Access Plan website. The information below is sample content and does not represent an actual event. \nCollege Access Plan is dedicated to helping students and families navigate the path to higher education. Through workshops\, mentoring\, and personalized guidance\, CAP supports students from middle school through college completion. \nIn a typical College Access Plan event\, students and families might learn about: \n\nPreparing for college starting in middle and high school\nUnderstanding financial aid and scholarships\nNavigating the college application process\nBuilding strong academic and extracurricular profiles\nAccessing mentoring and support resources\n\nPlease note: This is a demonstration event for website testing purposes only.
URL:https://collegeaccessplan.org/event/cap-test-event-02/
LOCATION:Test Virtual Event – UFAO link\, tinyurl.com/ufao26
ATTACH;FMTTYPE=image/webp:https://collegeaccessplan.org/wp-content/uploads/event-02.webp
ORGANIZER;CN="High School":MAILTO:daniel@collegeaccessplan.org
END:VEVENT
BEGIN:VEVENT
DTSTART;TZID=America/Los_Angeles:20260516T130000
DTEND;TZID=America/Los_Angeles:20260516T150000
DTSTAMP:20260423T184004
CREATED:20260409T155933Z
LAST-MODIFIED:20260413T222957Z
UID:320914-1778936400-1778943600@collegeaccessplan.org
SUMMARY:College Champions Celebration
DESCRIPTION:This is a test event created to demonstrate how events will appear on the College Access Plan website. The information below is sample content and does not represent an actual event. \nCollege Access Plan is dedicated to helping students and families navigate the path to higher education. Through workshops\, mentoring\, and personalized guidance\, CAP supports students from middle school through college completion. \nIn a typical College Access Plan event\, students and families might learn about: \n\nPreparing for college starting in middle and high school\nUnderstanding financial aid and scholarships\nNavigating the college application process\nBuilding strong academic and extracurricular profiles\nAccessing mentoring and support resources\n\nPlease note: This is a demonstration event for website testing purposes only.
URL:https://collegeaccessplan.org/event/cap-test-event-01/
LOCATION:By Invitation Only
ATTACH;FMTTYPE=image/webp:https://collegeaccessplan.org/wp-content/uploads/c7807d86-b1a4-46e8-ac7a-862ddc2f877f.webp
ORGANIZER;CN="College Champions":MAILTO:cynthia@collegeaccessplan.org
END:VEVENT
BEGIN:VEVENT
DTSTART;TZID=America/Los_Angeles:20260530T080000
DTEND;TZID=America/Los_Angeles:20260530T150000
DTSTAMP:20260423T184004
CREATED:20260413T220218Z
LAST-MODIFIED:20260413T222905Z
UID:320971-1780128000-1780153200@collegeaccessplan.org
SUMMARY:I Heart College Summer Summit
DESCRIPTION:This is a test event created to demonstrate how events will appear on the College Access Plan website. The information below is sample content and does not represent an actual event. \nCollege Access Plan is dedicated to helping students and families navigate the path to higher education. Through workshops\, mentoring\, and personalized guidance\, CAP supports students from middle school through college completion. \nIn a typical College Access Plan event\, students and families might learn about: \n\nPreparing for college starting in middle and high school\nUnderstanding financial aid and scholarships\nNavigating the college application process\nBuilding strong academic and extracurricular profiles\nAccessing mentoring and support resources\n\nPlease note: This is a demonstration event for website testing purposes only.
URL:https://collegeaccessplan.org/event/i-heart-college-summer-summit/
LOCATION:By Invitation Only
ATTACH;FMTTYPE=image/webp:https://collegeaccessplan.org/wp-content/uploads/c7807d86-b1a4-46e8-ac7a-862ddc2f877f.webp
ORGANIZER;CN="I Heart College":MAILTO:iheartcollege@collegeaccessplan.org
END:VEVENT
END:VCALENDAR